BEGIN:VCALENDAR
VERSION:2.0
PRODID:-//eventon.com NONSGML v1.0//EN
CALSCALE:GREGORIAN
METHOD:PUBLISH
BEGIN:VEVENT
UID:69e74baf938b8
DTSTAMP:20260421T100431Z
DTSTART:20230518T181500Z
DTEND:20230518T215000Z
LOCATION:La Filmoteca Pl. de l'Ajuntament\,  17\,  Ciutat Vella\,  46002 València
SUMMARY:"DETOUR" (1945) - CICLO CINE EN LA CARRETERA
DESCRIPTION:Título original: Detour.         Año: 1945 Duración: 65
  min.                  País: Estados Unidos     Producers Rele
 asing Corporation Dirección: Edgar G. Ulmer Guion: Martin Goldsmith. Novel
 a: Martin Goldsmith Música: Leo Erdody Fotografía: Benjamin H. Kline (B&a
 mp;W) Reparto: Tom Neal\,  Ann Savage\,  Claudia[..]\nhttps://valencianegra
 .com/events/detour-1945-ciclo-cine-en-la-carretera?lang=ca
URL:https://valencianegra.com/events/detour-1945-ciclo-cine-en-la-carretera?lang=ca
END:VEVENT
END:VCALENDAR