BEGIN:VCALENDAR
VERSION:2.0
PRODID:-//eventon.com NONSGML v1.0//EN
CALSCALE:GREGORIAN
METHOD:PUBLISH
BEGIN:VEVENT
UID:69e780abacbd8
DTSTAMP:20260421T135035Z
DTSTART:20230528T180000Z
DTEND:20230528T215000Z
LOCATION:La Filmoteca Pl. de l'Ajuntament\,  17\,  Ciutat Vella\,  46002 València
SUMMARY:"EL AUTOESTOPISTA" (1953) - CICLO CINE EN LA CARRETERA
DESCRIPTION:Título original: The Hitch-Hiker.          Año: 1953 Dur
 ación: 71 min.                                     Paí
 s: Estados Unidos      The Filmakers Dirección: Ida Lupino Guion: Ida L
 upino\,  Collier Young Música: Leith Stevens Fotografía: Nicholas[..]\nht
 tps://valencianegra.com/events/el-autoestopista-1953-ciclo-cine-en-la-carre
 tera?lang=ca
URL:https://valencianegra.com/events/el-autoestopista-1953-ciclo-cine-en-la-carretera?lang=ca
END:VEVENT
END:VCALENDAR