BEGIN:VCALENDAR
VERSION:2.0
PRODID:-//eventon.com NONSGML v1.0//EN
CALSCALE:GREGORIAN
METHOD:PUBLISH
BEGIN:VEVENT
UID:69e74b5894d8e
DTSTAMP:20260421T100304Z
DTSTART:20230513T170000Z
DTEND:20230513T215000Z
LOCATION:CCCC Centro del Carme Cultura Contemporània Carrer del Museu\,  2-4
SUMMARY:ROMPER LOS LÍMITES
DESCRIPTION:En el thriller moderno nos lo han contado todo\,  nos has propu
 esto las más inverosímiles tramas\,  los personajes más fantásticos y t
 remendos... y como consecuencia nos hemos vuelto lectores expertos en sorpr
 esas\,  en sospechas\,  en descubrir pistas. Por todo esto\,  los autores d
 e novela negra\,  y más en particular los[..]\nhttps://valencianegra.com/e
 vents/romper-limites?lang=ca
URL:https://valencianegra.com/events/romper-limites?lang=ca
END:VEVENT
END:VCALENDAR