BEGIN:VCALENDAR
VERSION:2.0
PRODID:-//eventon.com NONSGML v1.0//EN
CALSCALE:GREGORIAN
METHOD:PUBLISH
BEGIN:VEVENT
UID:69e74cdd8c4fa
DTSTAMP:20260421T100933Z
DTSTART:20230520T160000Z
DTEND:20230520T215000Z
LOCATION:Fundación Bancaja Plaça de Tetuán\,  23\,  46003 València
SUMMARY:NUEVOS RETOS
DESCRIPTION:La novela negra de nuestro país puede ser muchas cosas: un ent
 retenimiento\,  una mirada a los diversos estratos de nuestra sociedad\,  u
 na trama interesante o una fuente para aprender sobre un campo que no nos r
 esulta familiar. Pero también la novela negra puede ser un desafío: lejos
  de las versiones[..]\nhttps://valencianegra.com/events/nuevos-retos?lang=c
 a
URL:https://valencianegra.com/events/nuevos-retos?lang=ca
END:VEVENT
END:VCALENDAR