BEGIN:VCALENDAR
VERSION:2.0
PRODID:-//eventon.com NONSGML v1.0//EN
CALSCALE:GREGORIAN
METHOD:PUBLISH
BEGIN:VEVENT
UID:69e74c764dcd5
DTSTAMP:20260421T100750Z
DTSTART:20230519T170000Z
DTEND:20230519T215000Z
LOCATION:Fundación Bancaja Plaça de Tetuán\,  23\,  46003 València
SUMMARY:QUIÉN ES LA VÍCTIMA
DESCRIPTION:Uno de los temas en la novela negra es quiénes son las víctim
 as. Posiblemente sea el género con más víctimas y verdugos que conocemos
 \,  pero al mismo tiempo hemos estereotipado demasiado este arquetipo. ¿Ac
 aso la víctima debe ser siempre el más débil? Estamos demasiado acostumb
 rados a que por ejemplo\,  la[..]\nhttps://valencianegra.com/events/quien-e
 s-la-victima?lang=ca
URL:https://valencianegra.com/events/quien-es-la-victima?lang=ca
END:VEVENT
END:VCALENDAR