BEGIN:VCALENDAR
VERSION:2.0
PRODID:-//eventon.com NONSGML v1.0//EN
CALSCALE:GREGORIAN
METHOD:PUBLISH
BEGIN:VEVENT
UID:69e74b58a7278
DTSTAMP:20260421T100304Z
DTSTART:20230519T160000Z
DTEND:20230519T215000Z
LOCATION:Fundación Bancaja Plaça de Tetuán\,  23\,  46003 València
SUMMARY:LA HORA MÁS FOSCA
DESCRIPTION:El fenómeno del True Crime no es un recién llegado a nuestras
  pantallas\,  podcasts o nuestras lecturas. ya se ha conformado como un con
 tenido más\,  a caballo entre el entretenimiento\,  la información y la f
 ascinación que nos produce saber qué somos capaces de hacer. L'Hora Fosca
  es un programa que[..]\nhttps://valencianegra.com/events/hora-mas-fosca?la
 ng=ca
URL:https://valencianegra.com/events/hora-mas-fosca?lang=ca
END:VEVENT
END:VCALENDAR