BEGIN:VCALENDAR
VERSION:2.0
PRODID:-//eventon.com NONSGML v1.0//EN
CALSCALE:GREGORIAN
METHOD:PUBLISH
BEGIN:VEVENT
UID:69e74c765528a
DTSTAMP:20260421T100750Z
DTSTART:20230517T180000Z
DTEND:20230517T215000Z
LOCATION:Colegio Territorial de Arquitectos de Valencia Calle Hernán Cortés\,  6\,  46004 Valencia
SUMMARY:BRUMA NORTEÑA
DESCRIPTION:¿Existen diferencias entre el norte y el sur? Al menos eso es 
 lo que siempre nos han contado. ¿Puede el territorio\,  el clima\,  las tr
 adiciones y la actitud de la sociedad de determinadas zonas tener un impact
 o definitivo sobre las novelas que se producen allí y que versan sobre ese
 [..]\nhttps://valencianegra.com/events/bruma-nortena?lang=ca
URL:https://valencianegra.com/events/bruma-nortena?lang=ca
END:VEVENT
END:VCALENDAR