BEGIN:VCALENDAR
VERSION:2.0
PRODID:-//eventon.com NONSGML v1.0//EN
CALSCALE:GREGORIAN
METHOD:PUBLISH
BEGIN:VEVENT
UID:69e74b72992c3
DTSTAMP:20260421T100330Z
DTSTART:20230516T180000Z
DTEND:20230516T215000Z
LOCATION:Colegio Territorial de Arquitectos de Valencia Calle Hernán Cortés\,  6\,  46004 Valencia
SUMMARY:LO IMPENSABLE
DESCRIPTION:Hay historias que uno no quieren que estén escritas\,  porque 
 al leerlas sentimos que nos han arrebatado una parte de nuestra humanidad. 
 Es entonces cuando no queremos dejar de leerlas\,  porque ansiamos que el m
 undo recupere su equilibrio. La desaparición de un niño en un territorio 
 aislado y hostil\,  la[..]\nhttps://valencianegra.com/events/lo-impensable?
 lang=ca
URL:https://valencianegra.com/events/lo-impensable?lang=ca
END:VEVENT
END:VCALENDAR