BEGIN:VCALENDAR
VERSION:2.0
PRODID:-//eventon.com NONSGML v1.0//EN
CALSCALE:GREGORIAN
METHOD:PUBLISH
BEGIN:VEVENT
UID:69e733bb6b7a2
DTSTAMP:20260421T082219Z
DTSTART:20230518T170000Z
DTEND:20230518T215000Z
LOCATION:Colegio Territorial de Arquitectos de Valencia Calle Hernán Cortés\,  6\,  46004 Valencia
SUMMARY:INFILTRADOS
DESCRIPTION:Creemos conocer toda la lucha policial a través de las novelas
 \,  de las series\,  de lo que leemos en los periódicos\,  pero hay mucho 
 más de lo que se: está esa parte que no se ve\,  agentes infiltrados en e
 l bando opuesto\,  jugándose la vida a cada instante. Los libros[..]\nhttp
 s://valencianegra.com/events/infiltrados?lang=ca
URL:https://valencianegra.com/events/infiltrados?lang=ca
END:VEVENT
END:VCALENDAR