BEGIN:VCALENDAR
VERSION:2.0
PRODID:-//eventon.com NONSGML v1.0//EN
CALSCALE:GREGORIAN
METHOD:PUBLISH
BEGIN:VEVENT
UID:69e74b51bd46e
DTSTAMP:20260421T100257Z
DTSTART:20230518T180000Z
DTEND:20230518T215000Z
LOCATION:Colegio Territorial de Arquitectos de Valencia Calle Hernán Cortés\,  6\,  46004 Valencia
SUMMARY:UNA PUERTA AL PASADO
DESCRIPTION:UNA PUERTA AL PASADO\nhttps://valencianegra.com/events/puerta-p
 asado?lang=ca
URL:https://valencianegra.com/events/puerta-pasado?lang=ca
END:VEVENT
END:VCALENDAR