BEGIN:VCALENDAR
VERSION:2.0
PRODID:-//eventon.com NONSGML v1.0//EN
CALSCALE:GREGORIAN
METHOD:PUBLISH
BEGIN:VEVENT
UID:69e799cd0349d
DTSTAMP:20260421T153749Z
DTSTART:20230512T170000Z
DTEND:20230512T215000Z
LOCATION:CCCC Centro del Carme Cultura Contemporània Carrer del Museu\,  2-4
SUMMARY:DEMASIADO FAMILIAR
DESCRIPTION:DEMASIADO FAMILIAR\nhttps://valencianegra.com/events/demasiado-
 familiar?lang=ca
URL:https://valencianegra.com/events/demasiado-familiar?lang=ca
END:VEVENT
END:VCALENDAR