BEGIN:VCALENDAR
VERSION:2.0
PRODID:-//eventon.com NONSGML v1.0//EN
CALSCALE:GREGORIAN
METHOD:PUBLISH
BEGIN:VEVENT
UID:69e74aefa8381
DTSTAMP:20260421T100119Z
DTSTART:20230513T160000Z
DTEND:20230513T215000Z
LOCATION:CCCC Centro del Carme Cultura Contemporània Carrer del Museu\,  2-4
SUMMARY:EL CAMINO DEL PODER
DESCRIPTION:EL CAMINO DEL PODER\nhttps://valencianegra.com/events/camino-po
 der?lang=ca
URL:https://valencianegra.com/events/camino-poder?lang=ca
END:VEVENT
END:VCALENDAR