BEGIN:VCALENDAR
VERSION:2.0
PRODID:-//eventon.com NONSGML v1.0//EN
CALSCALE:GREGORIAN
METHOD:PUBLISH
BEGIN:VEVENT
UID:69e74c8207568
DTSTAMP:20260421T100802Z
DTSTART:20230513T100000Z
DTEND:20230513T215000Z
LOCATION:Fnac San Agustín C/ Guillem De Castro 9-11 - 46007 Valencia
SUMMARY:SIN TREGUA
DESCRIPTION:SIN TREGUA\nhttps://valencianegra.com/events/sin-tregua?lang=ca
URL:https://valencianegra.com/events/sin-tregua?lang=ca
END:VEVENT
END:VCALENDAR