BEGIN:VCALENDAR
VERSION:2.0
PRODID:-//eventon.com NONSGML v1.0//EN
CALSCALE:GREGORIAN
METHOD:PUBLISH
BEGIN:VEVENT
UID:69e74b72b5cc7
DTSTAMP:20260421T100330Z
DTSTART:20230520T100000Z
DTEND:20230520T215000Z
LOCATION:Fnac San Agustín C/ Guillem De Castro 9-11 - 46007 Valencia
SUMMARY:TRADICIÓ\,  MORT I FESTA
DESCRIPTION:TRADICIÓ\,  MORT I FESTA\nhttps://valencianegra.com/events/tra
 dicio-mort-festa?lang=ca
URL:https://valencianegra.com/events/tradicio-mort-festa?lang=ca
END:VEVENT
END:VCALENDAR