BEGIN:VCALENDAR
VERSION:2.0
PRODID:-//eventon.com NONSGML v1.0//EN
CALSCALE:GREGORIAN
METHOD:PUBLISH
BEGIN:VEVENT
UID:69e74baf93476
DTSTAMP:20260421T100431Z
DTSTART:20230511T173000Z
DTEND:20230511T215000Z
LOCATION:Biblioteca Valenciana Nicolau Primitiu - S. Miguel de los Reyes Avinguda de la Constitució\,  284\,  46019 València\,  Valencia
SUMMARY:INAUGURACIÓN Y PREMIOS NOVELAS
DESCRIPTION:Puesta en marcha del festival\,  donde se incluye el fallo de l
 as novelas ganadoras de los premios Valencia Negra en sus tres categorías:
  Best Novel\,  Millor novel.la y Mejor Novela. Estos premios los dan los vo
 tos del público a través de la página web en el enlace https://valencian
 egra.com/nominados-novelas-vlcn-2023 &nbsp; &nbsp;\nhttps://valencianegra.c
 om/events/inauguracion-premios?lang=ca
URL:https://valencianegra.com/events/inauguracion-premios?lang=ca
END:VEVENT
END:VCALENDAR