BEGIN:VCALENDAR
VERSION:2.0
PRODID:-//eventon.com NONSGML v1.0//EN
CALSCALE:GREGORIAN
METHOD:PUBLISH
BEGIN:VEVENT
UID:69e74ce3ef525
DTSTAMP:20260421T100939Z
DTSTART:20230519T100000Z
DTEND:20230519T215000Z
LOCATION:Instituto de Educación Secundaria Andreu Alfaro Carrer Jaume I\,  0\,  46200 Paiporta\,  Valencia
SUMMARY:CLUB DE LECTURA EN INSTITUTOS "GLACÉ"
DESCRIPTION: CLUB CERRADO CON ALUMNOS DE CENTROS EDUCATIVOS\nhttps://valen
 cianegra.com/events/club-de-lectura-glace?lang=ca
URL:https://valencianegra.com/events/club-de-lectura-glace?lang=ca
END:VEVENT
END:VCALENDAR