BEGIN:VCALENDAR
VERSION:2.0
PRODID:-//eventon.com NONSGML v1.0//EN
CALSCALE:GREGORIAN
METHOD:PUBLISH
BEGIN:VEVENT
UID:69e777efb105a
DTSTAMP:20260421T131319Z
DTSTART:20240510T170000Z
DTEND:20240510T215000Z
LOCATION:Fundación Bancaja Plaça de Tetuán\,  23\,  46003 València
SUMMARY:TURBIO\,  OSCURO\,  CASI NEGRO
DESCRIPTION:El género negro se llama así porque la editorial Gallimard\, 
  allá en la Francia de finales de los años 40\,  publicó todos los éxit
 os del hardbolied en una edición de tapas negras. Quizás no fuera azar lo
  que hizo tomar esa elección. Hay novelas que nos arrastran a las trastien
 das[..]\nhttps://valencianegra.com/events/turbio-oscuro-casinegro
URL:https://valencianegra.com/events/turbio-oscuro-casinegro
END:VEVENT
END:VCALENDAR