BEGIN:VCALENDAR
VERSION:2.0
PRODID:-//eventon.com NONSGML v1.0//EN
CALSCALE:GREGORIAN
METHOD:PUBLISH
BEGIN:VEVENT
UID:69ec9bad7ccb3
DTSTAMP:20260425T104709Z
DTSTART:20240511T160000Z
DTEND:20240511T215000Z
LOCATION:Fundación Bancaja Plaça de Tetuán\,  23\,  46003 València
SUMMARY:TÓMATELO EN SERIO
DESCRIPTION:A veces la novela negra peca de ligereza\,  y los autores busca
 n a cualquier precio sangre\,  emoción\,  estremecer al lector. No es el c
 aso de nuestros tres invitados\,  que se toman muy en serio sus historias a
  la hora de hacer ficciones. Desde tres perspectivas diferentes pero muy cr
 eativas\,  nuestros[..]\nhttps://valencianegra.com/events/tomatelo-en-serio
URL:https://valencianegra.com/events/tomatelo-en-serio
END:VEVENT
END:VCALENDAR