BEGIN:VCALENDAR
VERSION:2.0
PRODID:-//eventon.com NONSGML v1.0//EN
CALSCALE:GREGORIAN
METHOD:PUBLISH
BEGIN:VEVENT
UID:69e795d449463
DTSTAMP:20260421T152052Z
DTSTART:20240515T170000Z
DTEND:20240515T215000Z
LOCATION:Sala Loco Club Carrer de l'Erudit Orellana\,  12\,  Extramurs\,  46008 València\,  Valencia
SUMMARY:ROCK'N'ROLL ALL NITE
DESCRIPTION:Los viejos rockeros nunca mueren\,  aunque los personajes de no
 vela sí. Nuestros invitados habitan en el thriller de calidad\,  novela a 
 novela\,  donde saben darle un toque de sabor a su ascendencia norteña\,  
 ya sea de Galicia y del País Vasco. En todo caso son  autores muy conscie
 ntes de que[..]\nhttps://valencianegra.com/events/rock-all-nite
URL:https://valencianegra.com/events/rock-all-nite
END:VEVENT
END:VCALENDAR