BEGIN:VCALENDAR
VERSION:2.0
PRODID:-//eventon.com NONSGML v1.0//EN
CALSCALE:GREGORIAN
METHOD:PUBLISH
BEGIN:VEVENT
UID:69e7797e9ab02
DTSTAMP:20260421T131958Z
DTSTART:20240516T170000Z
DTEND:20240516T215000Z
LOCATION:Colegio Territorial de Arquitectos de Valencia Calle Hernán Cortés\,  6\,  46004 Valencia
SUMMARY:VINIERON DEL NORTE
DESCRIPTION:¿Existen diferencias entre el norte y el sur? Al menos eso es 
 lo que siempre nos han contado. ¿Puede el territorio\,  el clima\,  las tr
 adiciones y la actitud de la sociedad de determinadas zonas tener un impact
 o definitivo sobre las novelas que se producen allí y que versan sobre ese
 [..]\nhttps://valencianegra.com/events/vinieron-del-norte
URL:https://valencianegra.com/events/vinieron-del-norte
END:VEVENT
END:VCALENDAR