BEGIN:VCALENDAR
VERSION:2.0
PRODID:-//eventon.com NONSGML v1.0//EN
CALSCALE:GREGORIAN
METHOD:PUBLISH
BEGIN:VEVENT
UID:69ecc6107037e
DTSTAMP:20260425T134800Z
DTSTART:20240518T160000Z
DTEND:20240518T215000Z
LOCATION:FundaciÃ³n Bancaja PlaÃ§a de TetuÃ¡n\,  23\,  46003 ValÃ¨ncia
SUMMARY:DEBAJO DE LA ALFOMBRA
DESCRIPTION:El gÃ©nero negro radiografÃ­a la sociedad\,  sus enfermedades\,
   sus traumas y sus corruptelas. Nuestros autores tratan algunas de estas Ã
 ºltimas\,  tanto en Argentina como en EspaÃ±a\,  con tramas de thriller muy
  potentes que nos ilustran\,  nos fascinan y nos entretienen. Veremos como\
 ,  a un y otro lado del charco\,  algunos[..]\nhttps://valencianegra.com/ev
 ents/debajo-de-la-alfombra
URL:https://valencianegra.com/events/debajo-de-la-alfombra
END:VEVENT
END:VCALENDAR