BEGIN:VCALENDAR
VERSION:2.0
PRODID:-//eventon.com NONSGML v1.0//EN
CALSCALE:GREGORIAN
METHOD:PUBLISH
BEGIN:VEVENT
UID:69e7956045eac
DTSTAMP:20260421T151856Z
DTSTART:20240511T170000Z
DTEND:20240511T215000Z
LOCATION:Fundación Bancaja Plaça de Tetuán\,  23\,  46003 València
SUMMARY:A FLOR DE PIEL
DESCRIPTION:Muchos autores ponen la mira telescópica de su prosa al servic
 io de las emociones\,  buscando golpearnos donde más nos duele. Se puede d
 ecir que nos hacen sufrir y sentir tanto (o más) como sus personajes\,  qu
 e nos ponen las emociones a flor de piel. Y si además\,  nuestros invitado
 s tienen[..]\nhttps://valencianegra.com/events/flor-de-piel
URL:https://valencianegra.com/events/flor-de-piel
END:VEVENT
END:VCALENDAR