BEGIN:VCALENDAR
VERSION:2.0
PRODID:-//eventon.com NONSGML v1.0//EN
CALSCALE:GREGORIAN
METHOD:PUBLISH
BEGIN:VEVENT
UID:69e794a3a5400
DTSTAMP:20260421T151547Z
DTSTART:20240518T180000Z
DTEND:20240518T215000Z
LOCATION:Fundación Bancaja Plaça de Tetuán\,  23\,  46003 València
SUMMARY:CUANDO ABRES LOS OJOS
DESCRIPTION:Consumimos la mayoría de la ficción por los ojos. Ya sea en l
 a pequeña o gran pantalla\,  ya sea en un ebook o en un libro\,  devoramos
  con los ojos las peripecias de otros\,  los mundos de otros\,  que pasan a
  ser nuestros mundo\,  al menos por un tiempo. En[..]\nhttps://valencianegr
 a.com/events/cuando-abres-los-ojos
URL:https://valencianegra.com/events/cuando-abres-los-ojos
END:VEVENT
END:VCALENDAR