BEGIN:VCALENDAR
VERSION:2.0
PRODID:-//eventon.com NONSGML v1.0//EN
CALSCALE:GREGORIAN
METHOD:PUBLISH
BEGIN:VEVENT
UID:69e77ecc6cde1
DTSTAMP:20260421T134236Z
DTSTART:20240517T160000Z
DTEND:20240517T215000Z
LOCATION:La Filmoteca Pl. de l'Ajuntament\,  17\,  Ciutat Vella\,  46002 València
SUMMARY:"EL CARTERO SIEMPRE LLAMA DOS VECES"(1946)- CICLO CINE FEMMES FATALES
DESCRIPTION:1ª. The postman always rings twice (El cartero siempre llama d
 os veces\,  1946). Director: Tay Garnett. Guión: Harry Ruskin\,  Niven Bus
 ch\,  basada en la novela de James M. Cain. Producción: Carey Wilson. Foto
 grafía: Sidney Wagner. Dirección artística: Randall Duell &amp; Cedric G
 ibbons. Efectos especiales: Mark Davis\,  A. Arnold Gillespie &amp;[..]\nht
 tps://valencianegra.com/events/el-cartero-llama-dos-veces-ciclo-de-cine-fem
 mes-fatales
URL:https://valencianegra.com/events/el-cartero-llama-dos-veces-ciclo-de-cine-femmes-fatales
END:VEVENT
END:VCALENDAR