BEGIN:VCALENDAR
VERSION:2.0
PRODID:-//eventon.com NONSGML v1.0//EN
CALSCALE:GREGORIAN
METHOD:PUBLISH
BEGIN:VEVENT
UID:69e792b912ab2
DTSTAMP:20260421T150737Z
DTSTART:20240519T180000Z
DTEND:20240519T215000Z
LOCATION:La Filmoteca Pl. de l'Ajuntament\,  17\,  Ciutat Vella\,  46002 València
SUMMARY:"LABIOS ARDIENTES"(1990) - CICLO CINE FEMMES FATALES
DESCRIPTION:3ª. The Hot Spot (Labios ardientes\,  1990). Director: Dennis 
 Hopper. Guión: Charles Williams\,  Nona Tyson\,  basada en la novela de Ch
 arles Williams. Producción: Paul Lewis &amp; Deborah Capogrosso. Diseño d
 e producción: Cary White. Fotografía: Ueli Steiger Dirección artística:
  Ines Aparicio. Efectos especiales: Bart Dios &amp; Dennis Dion. Música: J
 ack Nitzsche.[..]\nhttps://valencianegra.com/events/labios-ardientes-ciclo-
 de-cine-femmes-fatales
URL:https://valencianegra.com/events/labios-ardientes-ciclo-de-cine-femmes-fatales
END:VEVENT
END:VCALENDAR