BEGIN:VCALENDAR
VERSION:2.0
PRODID:-//eventon.com NONSGML v1.0//EN
CALSCALE:GREGORIAN
METHOD:PUBLISH
BEGIN:VEVENT
UID:69e733bc9fd59
DTSTAMP:20260421T082220Z
DTSTART:20220505T183000Z
DTEND:20220505T215000Z
LOCATION:Fundación Bancaja Plaça de Tetuán\,  23\,  46003 València
SUMMARY:PREMI FRANCISCO GONZÁLEZ LEDESMA
DESCRIPTION:Un premi que reconeix tota una trajectòria contant històries\
 ,  un reconeixement que abans han rebut Andreu Martín\,  Alicia Giménez B
 artlett\,  Lorenzo Silva o Paco Camarasa. Enguany ho rep James Ellroy. &nbs
 p; &nbsp;\nhttps://valencianegra.com/events/premio-francisco-gonzalez-ledes
 ma-ellroy?lang=ca
URL:https://valencianegra.com/events/premio-francisco-gonzalez-ledesma-ellroy?lang=ca
END:VEVENT
END:VCALENDAR