BEGIN:VCALENDAR
VERSION:2.0
PRODID:-//eventon.com NONSGML v1.0//EN
CALSCALE:GREGORIAN
METHOD:PUBLISH
BEGIN:VEVENT
UID:69e78ef9948b3
DTSTAMP:20260421T145137Z
DTSTART:20210619T110000Z
DTEND:20210619T215000Z
LOCATION:Fnac San Agustín C/ Guillem De Castro 9-11 - 46007 Valencia
SUMMARY:Territori de nostàlgia
DESCRIPTION:L'adolescència és el període en que ens trobem de nassos amb
  la realitat. En moltes ocasions\,  deixa marques profundes que ens acompan
 yen durant la resta dels nostres díes. Fer-nos majors significa començar 
 a prendre perspectiva i és aleshores quan intentem interpretar les nostres
  arrels. Ens endinsarem en el territori de[..]\nhttps://valencianegra.com/e
 vents/territori-nostalgia?lang=ca
URL:https://valencianegra.com/events/territori-nostalgia?lang=ca
END:VEVENT
END:VCALENDAR