BEGIN:VCALENDAR
VERSION:2.0
PRODID:-//eventon.com NONSGML v1.0//EN
CALSCALE:GREGORIAN
METHOD:PUBLISH
BEGIN:VEVENT
UID:69e7491523b80
DTSTAMP:20260421T095325Z
DTSTART:20210616T180000Z
DTEND:20210616T215000Z
LOCATION:Centre Cultural La Nau - Universitat de València Carrer de la Universitat\,  2\,  46003 València\,  Valencia
SUMMARY:COL·LOQUI L'HORA FOSCA: "EL CRIM DEL PERRUQER DE RUSSAFA"
DESCRIPTION:Després de la projecció de l'episodi  de L'Hora Fosca (Ápun
 t TV) sobre el cas del perruquer de Russafa\,  iniciarem una apassionant co
 nversa sobre els aspectes més importants del cas\,  que eventualment donar
 an peu a qüestions que aborden tot el crim valencià i fins i tot universa
 l: Pot la ficció desencadenar[..]\nhttps://valencianegra.com/events/coloqu
 io-crimen-valenciano?lang=ca
URL:https://valencianegra.com/events/coloquio-crimen-valenciano?lang=ca
END:VEVENT
END:VCALENDAR