BEGIN:VCALENDAR
VERSION:2.0
PRODID:-//eventon.com NONSGML v1.0//EN
CALSCALE:GREGORIAN
METHOD:PUBLISH
BEGIN:VEVENT
UID:69e74916aaef4
DTSTAMP:20260421T095326Z
DTSTART:20210616T170000Z
DTEND:20210616T215000Z
LOCATION:Centre Cultural La Nau - Universitat de València Carrer de la Universitat\,  2\,  46003 València\,  Valencia
SUMMARY:PROJECCIÓ L'HORA FOSCA: "EL CRIM DEL PERRUQUER DE RUSSAFA"
DESCRIPTION:Projecció d'un episodi de L'Hora Fosca (ÁpuntTV) sobre un cas
  que va estremir a la societat valenciana en 2017: el cas del perruquer de 
 Russafa. En este cas es combina molts ingredients que fan d'ell una cosa ú
 nica: l'assassí\,  un suec d'origen argentí\,  va compartir cel·la amb u
 n triple assassí\, [..]\nhttps://valencianegra.com/events/peluquero-russaf
 a?lang=ca
URL:https://valencianegra.com/events/peluquero-russafa?lang=ca
END:VEVENT
END:VCALENDAR