BEGIN:VCALENDAR
VERSION:2.0
PRODID:-//eventon.com NONSGML v1.0//EN
CALSCALE:GREGORIAN
METHOD:PUBLISH
BEGIN:VEVENT
UID:69e74932251a6
DTSTAMP:20260421T095354Z
DTSTART:20210614T170000Z
DTEND:20210614T215000Z
LOCATION:Octubre Centre de Cultura Contemporània Carrer de Sant Ferran\,  12\,  46001 València
SUMMARY:COM HO ESTRUCTURE?
DESCRIPTION:Gabi Ochoa ens conta la seua experiència com a guionista\,  pe
 rò en esta ocasió ens donarà els seus millors consells per a aquells nov
 el·listes que tinguen dubtes sobre l'estructura narrativa de la seua obra.
  Com millorar-la? Com aprofitar els coneixements dels experts en la narrati
 va audiovisual? Amb esta masterclass de[..]\nhttps://valencianegra.com/even
 ts/como-lo-estructuro?lang=ca
URL:https://valencianegra.com/events/como-lo-estructuro?lang=ca
END:VEVENT
END:VCALENDAR