BEGIN:VCALENDAR
VERSION:2.0
PRODID:-//eventon.com NONSGML v1.0//EN
CALSCALE:GREGORIAN
METHOD:PUBLISH
BEGIN:VEVENT
UID:69e78dda8d5ae
DTSTAMP:20260421T144650Z
DTSTART:20210619T160000Z
DTEND:20210619T215000Z
LOCATION:Fnac San Agustín C/ Guillem De Castro 9-11 - 46007 Valencia
SUMMARY:PODCAST EN DIRECTE: ACI ES PARLA DE JOCS (NEGRES)
DESCRIPTION:Nova secció del festival\,  on pots assistir a l'enregistramen
 t en directe d'un podcast\,  en este cas de ¡AQUÍ SE HABLA DE JUEGOS!\,  
 on alguns dels experts en els videojocs més cridaners del mercat analitzar
 an les últimes novetats i ens donaran pistes de quins són els millors vid
 eojocs que hem de[..]\nhttps://valencianegra.com/events/podcast-juegos?lang
 =ca
URL:https://valencianegra.com/events/podcast-juegos?lang=ca
END:VEVENT
END:VCALENDAR