BEGIN:VCALENDAR
VERSION:2.0
PRODID:-//eventon.com NONSGML v1.0//EN
CALSCALE:GREGORIAN
METHOD:PUBLISH
BEGIN:VEVENT
UID:69e7492fb8314
DTSTAMP:20260421T095351Z
DTSTART:20210616T170000Z
DTEND:20210616T215000Z
LOCATION:Octubre Centre de Cultura Contemporània Carrer de Sant Ferran\,  12\,  46001 València
SUMMARY:COM HO VENC?
DESCRIPTION:Jordi Llobregat\,  escriptor traduït a 18 idiomes\,  director 
 de València Negra i expert en màrqueting\,  t'ajuda a resoldre esta pregu
 nta tan complicada: què fer amb el meu manuscrit ara que ja l'he acabat? C
 om aconseguisc publicar-ho? Com fer una bona promoció? Ens serveixen les x
 arxes socials per a promocionar el[..]\nhttps://valencianegra.com/events/co
 mo-lo-vendo?lang=ca
URL:https://valencianegra.com/events/como-lo-vendo?lang=ca
END:VEVENT
END:VCALENDAR