BEGIN:VCALENDAR
VERSION:2.0
PRODID:-//eventon.com NONSGML v1.0//EN
CALSCALE:GREGORIAN
METHOD:PUBLISH
BEGIN:VEVENT
UID:69ec964c7085a
DTSTAMP:20260425T102412Z
DTSTART:20210619T081500Z
DTEND:20210619T215000Z
LOCATION:Fnac San Agustín C/ Guillem De Castro 9-11 - 46007 Valencia
SUMMARY:PODCAST EN DIRECTE: LABORATORIO DE INVESTIGACIÓN DE SERIES (LIS)
DESCRIPTION:Nova secció del festival\,  on pots assistir a l'enregistramen
 t en directe d'un podcast\,  en este cas de LABORATORIO DE INVESTIGACIÓN D
 E SERIES (LIS)\,  on David Brieva\,  Àurea Ortiz i Mikel Labastida analitz
 en alguns de les millors sèries negres de l'actualitat. Comptaran amb un c
 onvidat d'excepció per a acompanyar-los\,  un escriptor[..]\nhttps://valen
 cianegra.com/events/podcast-en-directo-laboratorio-de-investigacion-de-seri
 es-lis?lang=ca
URL:https://valencianegra.com/events/podcast-en-directo-laboratorio-de-investigacion-de-series-lis?lang=ca
END:VEVENT
END:VCALENDAR