BEGIN:VCALENDAR
VERSION:2.0
PRODID:-//eventon.com NONSGML v1.0//EN
CALSCALE:GREGORIAN
METHOD:PUBLISH
BEGIN:VEVENT
UID:69e74940d0a39
DTSTAMP:20260421T095408Z
DTSTART:20210615T170000Z
DTEND:20210615T215000Z
LOCATION:Octubre Centre de Cultura Contemporània Carrer de Sant Ferran\,  12\,  46001 València
SUMMARY:COM HO CONTE?
DESCRIPTION:Santiago Álvarez\,  escriptor i director de continguts de Val
 ncia Negra\,  ens donarà uns tips per a millorar el nostre estil a l'hora
  d'escriure el projecte literari que tinguem entre mans. És més important
  el que es compta o com es compta? I\,  en tot cas: com millorar la nostra 
 manera[..]\nhttps://valencianegra.com/events/como-lo-cuento?lang=ca
URL:https://valencianegra.com/events/como-lo-cuento?lang=ca
END:VEVENT
END:VCALENDAR