BEGIN:VCALENDAR
VERSION:2.0
PRODID:-//eventon.com NONSGML v1.0//EN
CALSCALE:GREGORIAN
METHOD:PUBLISH
BEGIN:VEVENT
UID:69ec9bff06416
DTSTAMP:20260425T104831Z
DTSTART:20210612T093000Z
DTEND:20210612T215000Z
LOCATION:Fnac San Agustín C/ Guillem De Castro 9-11 - 46007 Valencia
SUMMARY:NOIR EXPRESS: ELS AUTORS PARLEN
DESCRIPTION:Nova secció del festival\,  a l'estil de les conegudes xarrade
 s TED\,  on podrem assistir a com tres grans autors de gènere negre del no
 stre país parlen sobre un tema de la seua elecció en menys de 15 minuts. 
 L'emoció\,  la diversió i el gaudi estan garantits!\nhttps://valencianegr
 a.com/events/noir-express-autores-hablan?lang=ca
URL:https://valencianegra.com/events/noir-express-autores-hablan?lang=ca
END:VEVENT
END:VCALENDAR