BEGIN:VCALENDAR
VERSION:2.0
PRODID:-//eventon.com NONSGML v1.0//EN
CALSCALE:GREGORIAN
METHOD:PUBLISH
BEGIN:VEVENT
UID:69e7493f24509
DTSTAMP:20260421T095407Z
DTSTART:20210612T103000Z
DTEND:20210612T215000Z
LOCATION:Fnac San Agustín C/ Guillem De Castro 9-11 - 46007 Valencia
SUMMARY:NOIR EXPRESS: TRUE CRIME
DESCRIPTION:Nova secció del festival\,  a l'estil de les conegudes xarrade
 s TED\,  on podrem contemplar com tres grans experts del nostre país abord
 en un tema de la seua elecció en menys de 15 minuts. L'emoció\,  la diver
 sió i el gaudi estan garantits!\nhttps://valencianegra.com/events/noir-exp
 ress-true-crime?lang=ca
URL:https://valencianegra.com/events/noir-express-true-crime?lang=ca
END:VEVENT
END:VCALENDAR