BEGIN:VCALENDAR
VERSION:2.0
PRODID:-//eventon.com NONSGML v1.0//EN
CALSCALE:GREGORIAN
METHOD:PUBLISH
BEGIN:VEVENT
UID:69e74915398ad
DTSTAMP:20260421T095325Z
DTSTART:20210619T100000Z
DTEND:20210619T215000Z
LOCATION:Biblioteca Valenciana Nicolau Primitiu - S. Miguel de los Reyes Avinguda de la Constitució\,  284\,  46019 València\,  Valencia
SUMMARY:CLUB DE LECTURA "ARA DIREU QUE ESTIC BOIG/VAIS A DECIR QUE ESTOY LOCO"
DESCRIPTION:«Ara m’adormo\,  ara em desperto\,  ara m’adormo.» Així 
 és la vida de Francesc Ascàs\,  un jove extravagant\,  intrusiu i diferen
 t\,  que sent veus i diu coses estranyes\,  que dibuixa còmics i està eng
 anxat a les prediccions d’una maga televisiva\,  i tot això reclòs en e
 l pis on viu\,  amb l’única[..]\nhttps://valencianegra.com/events/club-d
 e-lectura-andreu-martin?lang=ca
URL:https://valencianegra.com/events/club-de-lectura-andreu-martin?lang=ca
END:VEVENT
END:VCALENDAR