BEGIN:VCALENDAR
VERSION:2.0
PRODID:-//eventon.com NONSGML v1.0//EN
CALSCALE:GREGORIAN
METHOD:PUBLISH
BEGIN:VEVENT
UID:69ecc69b106a7
DTSTAMP:20260425T135019Z
DTSTART:20210612T100000Z
DTEND:20210612T215000Z
LOCATION:Colegio Helios - L'ELIANA Ctra. Riba-Roja de Turia a S. A. Benagéber\,  km. 6 46183 L’Eliana (Valencia)
SUMMARY:CLUB DE LECTURA "EL POZO"
DESCRIPTION:«Pou. Es diu del lloc en el qual pot precipitar-se i morir una
  nena. El periodisme. I la decència de tots.» Greta Cadaqués\,  una repo
 rtera de televisió\,  és enviada a cobrir el cas d'una xiqueta que ha cai
 gut en un pou als afores de Madrid. Mentre no deixa de pensar[..]\nhttps://
 valencianegra.com/events/club-de-lectura-el-pozo?lang=ca
URL:https://valencianegra.com/events/club-de-lectura-el-pozo?lang=ca
END:VEVENT
END:VCALENDAR