BEGIN:VCALENDAR
VERSION:2.0
PRODID:-//eventon.com NONSGML v1.0//EN
CALSCALE:GREGORIAN
METHOD:PUBLISH
BEGIN:VEVENT
UID:69e748dc49387
DTSTAMP:20260421T095228Z
DTSTART:20210615T173000Z
DTEND:20210615T215000Z
LOCATION:L'Iber\,  Museo de los soldaditos de plomo
SUMMARY:CLUB DE LECTURA SHERLOCK HOLMES
DESCRIPTION:Sherlock Holmes és un personatge immortal de la literatura uni
 versal\,  del qual no és necessari fer cap mena d'observació. En este clu
 b abordarem l'escriptura d'algunes de les seues obres més importants: Estu
 di en Escarlata i El Sabueso de Baskerville. També comentarem la importàn
 cia d'este personatge sense parangó\,  un dels primers[..]\nhttps://valenc
 ianegra.com/events/club-de-lectura-sherlock-holmes?lang=ca
URL:https://valencianegra.com/events/club-de-lectura-sherlock-holmes?lang=ca
END:VEVENT
END:VCALENDAR