BEGIN:VCALENDAR
VERSION:2.0
PRODID:-//eventon.com NONSGML v1.0//EN
CALSCALE:GREGORIAN
METHOD:PUBLISH
BEGIN:VEVENT
UID:69e748dc4bdb4
DTSTAMP:20260421T095228Z
DTSTART:20210619T100000Z
DTEND:20210619T215000Z
LOCATION:Biblioteca Metro - TORRENT Avinguda al Vedat\,  103 tercera planta\,  46901 Torrent\,  Valencia
SUMMARY:CLUB DE LECTURA "REVANCHA"
DESCRIPTION:Amador és el conseller i número dos de la facció criminal de
  Lokos\,  el grup ultra del FC Barcelona. Extorqueixen\,  peguen pallisses\
 ,  mouen droga i destrueixen a bandes enemigues. El seu kapo és Alberto Ci
 d\,  àlies el Cid\,  un psicòpata sense ànima ni escrúpols. Amador i el
  Cid\,  llegendaris skinheads[..]\nhttps://valencianegra.com/events/club-de
 -lectura-revancha?lang=ca
URL:https://valencianegra.com/events/club-de-lectura-revancha?lang=ca
END:VEVENT
END:VCALENDAR