BEGIN:VCALENDAR
VERSION:2.0
PRODID:-//eventon.com NONSGML v1.0//EN
CALSCALE:GREGORIAN
METHOD:PUBLISH
BEGIN:VEVENT
UID:69e748ddcfaf4
DTSTAMP:20260421T095229Z
DTSTART:20210619T100000Z
DTEND:20210619T215000Z
LOCATION:Casa del Libro Pg. de Russafa\,  11\,  Ciutat Vella\,  46002 València
SUMMARY:CLUB DE LECTURA "EL BUEN PADRE"
DESCRIPTION:Després de rebre una telefonada d'alarma\,  la policia troba e
 n un xalet d'una urbanització madrilenya a un home tacat de sang i un gani
 vet amb les seues petjades al costat del cadàver de la seua dona. Un any m
 és tard\,  un ancià es lliura a la policia afirmant ser el[..]\nhttps://v
 alencianegra.com/events/club-de-lectura-el-buen-padre?lang=ca
URL:https://valencianegra.com/events/club-de-lectura-el-buen-padre?lang=ca
END:VEVENT
END:VCALENDAR