BEGIN:VCALENDAR
VERSION:2.0
PRODID:-//eventon.com NONSGML v1.0//EN
CALSCALE:GREGORIAN
METHOD:PUBLISH
BEGIN:VEVENT
UID:69e748e38ae13
DTSTAMP:20260421T095235Z
DTSTART:20210612T100000Z
DTEND:20210612T215000Z
LOCATION:Casa del Libro Pg. de Russafa\,  11\,  Ciutat Vella\,  46002 València
SUMMARY:CLUB DE LECTURA "LA HORA DE LAS GAVIOTAS"
DESCRIPTION:Ningú com Ibon Martín per a submergir-nos en un dels enclavam
 ents més colpidors de la costa basca. L'odi és l'enemic més perillós. L
 es gavines sobrevolen inquietes la ciutat marinera d'Hondarribia\,  que s'h
 a vestit amb les seues millors gales per a celebrar un dia especial. Els se
 us gralls competeixen amb els[..]\nhttps://valencianegra.com/events/club-de
 -lectura-hora-gaviotas?lang=ca
URL:https://valencianegra.com/events/club-de-lectura-hora-gaviotas?lang=ca
END:VEVENT
END:VCALENDAR