BEGIN:VCALENDAR
VERSION:2.0
PRODID:-//eventon.com NONSGML v1.0//EN
CALSCALE:GREGORIAN
METHOD:PUBLISH
BEGIN:VEVENT
UID:69e748e30645d
DTSTAMP:20260421T095235Z
DTSTART:20210612T100000Z
DTEND:20210612T215000Z
LOCATION:Librería Imperio de Libros
SUMMARY:CLUB DE LECTURA "GORDO DE FERIA"
DESCRIPTION:Un noir surreal\,  una comèdia estrambòtica\,  terrorífica
  i castissa. Una novel·la trepidant i vibrant\,  que no dóna treva al lec
 tor. Madrid\,  un Madrid singular\,  torna a ser l'escenari de la també si
 ngular narrativa d'Esther García Llovet. En aquesta ocasió el protagonist
 a és un humorista sobrenomenat Castor\,  famós pels seus monòlegs televi
 sius. La[..]\nhttps://valencianegra.com/events/club-de-lectura-gordo-de-fer
 ia?lang=ca
URL:https://valencianegra.com/events/club-de-lectura-gordo-de-feria?lang=ca
END:VEVENT
END:VCALENDAR