BEGIN:VCALENDAR
VERSION:2.0
PRODID:-//eventon.com NONSGML v1.0//EN
CALSCALE:GREGORIAN
METHOD:PUBLISH
BEGIN:VEVENT
UID:69e7494045994
DTSTAMP:20260421T095408Z
DTSTART:20210618T160000Z
DTEND:20210618T215000Z
LOCATION:L'Iber\,  Museo de los soldaditos de plomo
SUMMARY:UNS ALTRES MONS
DESCRIPTION:No totes les històries succeeixen dins les convencions. Hi ha 
 propostes atrevides\,  arriscades\,  que ens arrosseguen a altres mons\,  m
 enys allunyats dels nostres del que creem. Ja siga un assassí en sèrie en
  temps d'Instagram o una distopia que bufona amb la ciència-ficció\,  pod
 en portar-nos a esgarrifossos escenaris on es[..]\nhttps://valencianegra.co
 m/events/otros-mundos?lang=ca
URL:https://valencianegra.com/events/otros-mundos?lang=ca
END:VEVENT
END:VCALENDAR