BEGIN:VCALENDAR
VERSION:2.0
PRODID:-//eventon.com NONSGML v1.0//EN
CALSCALE:GREGORIAN
METHOD:PUBLISH
BEGIN:VEVENT
UID:69e7490ac8353
DTSTAMP:20260421T095314Z
DTSTART:20210618T180000Z
DTEND:20210618T215000Z
LOCATION:L'Iber\,  Museo de los soldaditos de plomo
SUMMARY:AMB EL COR A LA BOCA
DESCRIPTION:Hi ha autors que s'obstinen amb totes les seues forces que ens 
 retorcem sobre el sofà mentre llegim; semblen tenir una idea perversa de c
 om hem d'emprar el nostre temps lliure. I no obstant això llegim les seues
  novel·les gojosos\,  en una fogonada lectora fins a un final que ens[..]\
 nhttps://valencianegra.com/events/corazon-boca?lang=ca
URL:https://valencianegra.com/events/corazon-boca?lang=ca
END:VEVENT
END:VCALENDAR