BEGIN:VCALENDAR
VERSION:2.0
PRODID:-//eventon.com NONSGML v1.0//EN
CALSCALE:GREGORIAN
METHOD:PUBLISH
BEGIN:VEVENT
UID:69e748e1926f2
DTSTAMP:20260421T095233Z
DTSTART:20210619T160000Z
DTEND:20210619T215000Z
LOCATION:L'Iber\,  Museo de los soldaditos de plomo
SUMMARY:EL QUE ENS ESTREMEIX
DESCRIPTION:És l'essència del Thriller\,  que ve del verb to thrill\,  es
 tremir en anglès. Els nostres autors d'esta conversa saben molt d'això\, 
  de com sacsejar al lector a través del suspens\,  de l'acció\,  dels sen
 timents que desperten les situacions límit. Un sotrac gojós al qual acudi
 m una vegada i una altra\, [..]\nhttps://valencianegra.com/events/lo-que-no
 s-estremece?lang=ca
URL:https://valencianegra.com/events/lo-que-nos-estremece?lang=ca
END:VEVENT
END:VCALENDAR