BEGIN:VCALENDAR
VERSION:2.0
PRODID:-//eventon.com NONSGML v1.0//EN
CALSCALE:GREGORIAN
METHOD:PUBLISH
BEGIN:VEVENT
UID:69e7492fcba75
DTSTAMP:20260421T095351Z
DTSTART:20210619T170000Z
DTEND:20210619T215000Z
LOCATION:L'Iber\,  Museo de los soldaditos de plomo
SUMMARY:UN PUZLE INCOMPLET
DESCRIPTION:Hi ha personatges que naixen trencats\,  venĂ§uts\,  a la mercĂ
 ¨ de la vida i de les seues arestes. SĂłn com a puzles que han perdut algun
 es peces. I quĂ¨ fem quan aixĂ˛ succeeix? Buscar el que falta\,  evidentmen
 t. AixĂ­ que\,  ja siga a travĂ©s del thriller psicolĂ˛gic o del policĂ­ac\
 , [..]\nhttps://valencianegra.com/events/puzzle-incompleto?lang=ca
URL:https://valencianegra.com/events/puzzle-incompleto?lang=ca
END:VEVENT
END:VCALENDAR