BEGIN:VCALENDAR
VERSION:2.0
PRODID:-//eventon.com NONSGML v1.0//EN
CALSCALE:GREGORIAN
METHOD:PUBLISH
BEGIN:VEVENT
UID:69e749173f9c8
DTSTAMP:20260421T095327Z
DTSTART:20210619T180000Z
DTEND:20210619T215000Z
LOCATION:L'Iber\,  Museo de los soldaditos de plomo
SUMMARY:QUI HO ANAVA A DIR
DESCRIPTION:Ho deia el genial Jim Thompson: "En la ficció\,  les coses han
  de ser el que semblen". I sobre això descansa part de la literatura dels 
 nostres convidats. Hi ha personatges terribles\,  marcats pels nostres prej
 udicis i pel que coneixem com a "biaix de confirmació" que després\,  qua
 n ho mirem[..]\nhttps://valencianegra.com/events/quien-lo-iba-a-decir?lang=
 ca
URL:https://valencianegra.com/events/quien-lo-iba-a-decir?lang=ca
END:VEVENT
END:VCALENDAR