BEGIN:VCALENDAR
VERSION:2.0
PRODID:-//eventon.com NONSGML v1.0//EN
CALSCALE:GREGORIAN
METHOD:PUBLISH
BEGIN:VEVENT
UID:69e7490aba82f
DTSTAMP:20260421T095314Z
DTSTART:20210619T100000Z
DTEND:20210619T215000Z
LOCATION:Fnac San Agustín C/ Guillem De Castro 9-11 - 46007 Valencia
SUMMARY:Deconstruïnt personatges
DESCRIPTION:Amb el que costa construir un bon personatge\,  hi-ha escriptor
 s que decideixen fer el contrari: deconstruïr-los\,  i no de manera figura
 da\,  sino amb ganivet y ferramentes de fer autòpsies i coses pitjors. Bus
 carem les raons per les quals un autor es decideix a traure un objecte ben 
 afilat per a[..]\nhttps://valencianegra.com/events/fnac1?lang=ca
URL:https://valencianegra.com/events/fnac1?lang=ca
END:VEVENT
END:VCALENDAR