BEGIN:VCALENDAR
VERSION:2.0
PRODID:-//eventon.com NONSGML v1.0//EN
CALSCALE:GREGORIAN
METHOD:PUBLISH
BEGIN:VEVENT
UID:69e748de66d56
DTSTAMP:20260421T095230Z
DTSTART:20210617T170000Z
DTEND:20210617T215000Z
LOCATION:L'Iber\,  Museo de los soldaditos de plomo
SUMMARY:L'ODI I EL DOLOR
DESCRIPTION:En tota bona ficció criminal\,  els sentiments més intensos e
 s manifesten una vegada i una altra en les seues pàgines... i fins i tot e
 s transmeten al lector. Potser hi ha sentiments més intensos que l'odi i e
 l dolor? Les nostres convidades exploren estos tortuosos camins en les seue
 s novel·les\, [..]\nhttps://valencianegra.com/events/odio-dolor?lang=ca
URL:https://valencianegra.com/events/odio-dolor?lang=ca
END:VEVENT
END:VCALENDAR